BEGIN:VCALENDAR
VERSION:2.0
PRODID:-//Tukios.com/
BEGIN:VEVENT
UID:528b1efe-4401-43de-ab77-ef129cd06633@www.strifflerfuneralhomes.com
DTSTAMP:20260423T013134Z
DTSTART:20260424T160000Z
DTEND:20260424T180000Z
SUMMARY:Gathering
DESCRIPTION:
URL:https://www.strifflerfuneralhomes.com/obituaries/david-ross
LOCATION:Strifflers of White Oak Cremation & Mortuary Services, Inc. 1100 
	Lincoln Way  White Oak PA 15131
GEO:40.3538157;-79.8243281
END:VEVENT
END:VCALENDAR